BEGIN:VCALENDAR
VERSION:2.0
PRODID:icalendar-ruby
CALSCALE:GREGORIAN
METHOD:PUBLISH
BEGIN:VEVENT
DTSTAMP:20260421T090600Z
UID:5-314353@stuartchurchofchrist.org
DTSTART:20260628T140000Z
DTEND:20260628T150000Z
CLASS:PUBLIC
CREATED:20260326T141707
DESCRIPTION:Sunday Worship
LAST-MODIFIED:20260326T141707
LOCATION:
SUMMARY:Morning Worship
URL;VALUE=URI:https://www.stuartchurchofchrist.org/events/morning-worship/2
 026-06-28
END:VEVENT
END:VCALENDAR
