BEGIN:VCALENDAR
VERSION:2.0
PRODID:icalendar-ruby
CALSCALE:GREGORIAN
METHOD:PUBLISH
BEGIN:VEVENT
DTSTAMP:20260421T214153Z
UID:7-314387@stuartchurchofchrist.org
DTSTART:20260809T220000Z
DTEND:20260809T230000Z
CLASS:PUBLIC
CREATED:20260326T141737
DESCRIPTION:Evening Worship
LAST-MODIFIED:20260326T141737
LOCATION:
SUMMARY:Evening Worship
URL;VALUE=URI:https://www.stuartchurchofchrist.org/events/evening-worship/2
 026-08-09
END:VEVENT
END:VCALENDAR
