BEGIN:VCALENDAR
VERSION:2.0
PRODID:icalendar-ruby
CALSCALE:GREGORIAN
METHOD:PUBLISH
BEGIN:VEVENT
DTSTAMP:20260422T114816Z
UID:8-314451@stuartchurchofchrist.org
DTSTART:20260923T230000Z
DTEND:20260924T000000Z
CLASS:PUBLIC
CREATED:20260326T141941
DESCRIPTION:Bible Class
LAST-MODIFIED:20260326T141941
LOCATION:
SUMMARY:Bible Class
URL;VALUE=URI:https://www.stuartchurchofchrist.org/events/bible-class--8/20
 26-09-23
END:VEVENT
END:VCALENDAR
